BEGIN:VCALENDAR
VERSION:2.0
PRODID:-//eventon.com NONSGML v1.0//EN
BEGIN:VEVENT
UID:69eb3f6626888
DTSTAMP:20260424T120110
DTSTART:20250412T170000Z
DTEND:20250412T215000Z
TZID:Europe/Berlin
LOCATION:Schloss Fechenbach Eulengasse 8\,  Dieburg
SUMMARY:208. DIEBURGER SCHLOSSKONZERT
DESCRIPTION: 208. DIEBURGER SCHLOSSKONZERT im Schloss Fechenbach Samstag\,  12. April 2025Beginn: 19:00 UhrEnde: ca. 21:00 Uhr =============================== MANFRED BOCKSCHWEIGER\,  Trompete MIZUHO QUAISER-ITAKURA\,  Klavier Werke von: Bach\,  Hummel\,  Mozart\,  Sibelius und Prokofiev   Mit festlich und virtuos lässt sich am treffendsten das Trompetenkonzert mit Manfred Bockschweiger und der Pianistin Mizuho Quaiser-Itakura am[..]
URL:https://konzertdirektionberg.de/events/208-dieburger-schlosskonzert/
END:VEVENT
END:VCALENDAR