BEGIN:VCALENDAR
VERSION:2.0
PRODID:-//eventon.com NONSGML v1.0//EN
BEGIN:VEVENT
UID:69ec996c6b0ca
DTSTAMP:20260425T123732
DTSTART:20190706T190000Z
DTEND:20190706T235000Z
LOCATION:Evang. Luth. Pfarramt Schillingsfürst Hohenlohestraße 2\,  91583 Schillingsfürst
SUMMARY:Klavierduo Glemser: Galakonzert "Eine italienische Nacht"
DESCRIPTION: Klavierduo Glemser &#8211; Galakonzert &#8222;Eine italienische Nacht&#8220; &#8211; Im Rahmen des Liszt-Festival auf Schloss Schillingsfürst 2019 &#8211; mit FRANZISKA GLEMSER\,  (Klavier) FLORIAN GLEMSER\,  (Klavier) ROBERTA VERNA (Violine)\,  JENS SINGER (Klarinette)\,  FLORIAN SCHMIDT-BARTHA (Violoncello) Sonntag\,  07. Juli 2019 Beginn: 17:00 Uhr ========================================= PROGRAMM wird noch bekannt gegeben ========================================= Franziska Glemser (geb.[..]
URL:https://konzertdirektionberg.de/events/klavierduo-glemser-galakonzert-eine-italienische-nacht/
END:VEVENT
END:VCALENDAR